BEGIN:VCALENDAR
VERSION:2.0
PRODID:-//Proximity MFA for Shared Workstations - GateKeeper Enterprise - ECPv6.15.20//NONSGML v1.0//EN
CALSCALE:GREGORIAN
METHOD:PUBLISH
X-ORIGINAL-URL:https://gkaccess.com
X-WR-CALDESC:Events for Proximity MFA for Shared Workstations - GateKeeper Enterprise
REFRESH-INTERVAL;VALUE=DURATION:PT1H
X-Robots-Tag:noindex
X-PUBLISHED-TTL:PT1H
BEGIN:VTIMEZONE
TZID:America/New_York
BEGIN:DAYLIGHT
TZOFFSETFROM:-0500
TZOFFSETTO:-0400
TZNAME:EDT
DTSTART:20240310T070000
END:DAYLIGHT
BEGIN:STANDARD
TZOFFSETFROM:-0400
TZOFFSETTO:-0500
TZNAME:EST
DTSTART:20241103T060000
END:STANDARD
BEGIN:DAYLIGHT
TZOFFSETFROM:-0500
TZOFFSETTO:-0400
TZNAME:EDT
DTSTART:20250309T070000
END:DAYLIGHT
BEGIN:STANDARD
TZOFFSETFROM:-0400
TZOFFSETTO:-0500
TZNAME:EST
DTSTART:20251102T060000
END:STANDARD
BEGIN:DAYLIGHT
TZOFFSETFROM:-0500
TZOFFSETTO:-0400
TZNAME:EDT
DTSTART:20260308T070000
END:DAYLIGHT
BEGIN:STANDARD
TZOFFSETFROM:-0400
TZOFFSETTO:-0500
TZNAME:EST
DTSTART:20261101T060000
END:STANDARD
END:VTIMEZONE
BEGIN:VEVENT
DTSTART;VALUE=DATE:20251112
DTEND;VALUE=DATE:20251114
DTSTAMP:20260421T074351
CREATED:20250818T212523Z
LAST-MODIFIED:20251212T204617Z
UID:14829-1762905600-1763078399@gkaccess.com
SUMMARY:2025 ChannelPro DEFEND: Irvine
DESCRIPTION:Calling all MSPs and resellers! The master key for your clients in manufacturing\, law enforcement\, healthcare\, credit unions\, retina facilities\, and more. ChannelPro vendor GateKeeper Proximity will be showcasing the latest GateKeeper 2FA token features. \nGateKeeper Proximity at the 2025 ChannelPro DEFEND: Irvine: \n\nLearn how our proximity login solution helps MSPs better support clients with shared workspaces and strict compliance needs\nConnect directly with our leadership and research team to discuss reseller and technology partnership opportunities\nSee how GateKeeper Proximity technology delivers faster\, more secure access control without the complexity of traditional 2FA burdens\n\nWe’re here to build strategic relationships with IT companies seeking innovative ways to stand out in a crowded market. Stop by our booth and discover what makes GateKeeper Proximity the go-to authentication solution for mission-critical environments. \nCheck out GateKeeper Proximity case studies and reviews from clients and partners ranging from Fortune 500 to SMB. Looking forward to meeting all the attendees and exhibitors in California at 2025 ChannelPro DEFEND: Irvine! See you next year at ChannelPro 2026!
URL:https://gkaccess.com/event/2025-channelpro-defend-irvine/
LOCATION:Hilton Irvine/Orange County Airport\, 18800 MacArthur Blvd\, Irvine\, CA\, 92612\, United States
CATEGORIES:Conferences
ATTACH;FMTTYPE=image/png:https://gkaccess.com/wp-content/uploads/2025/08/ChannelPro-DEFEND-West-Logo-scaled.png
ORGANIZER;CN="ChannelPro Network":MAILTO:info@channelpronetwork.com
END:VEVENT
END:VCALENDAR