BEGIN:VCALENDAR
VERSION:2.0
PRODID:-//Proximity MFA for Shared Workstations - GateKeeper Enterprise - ECPv6.15.20//NONSGML v1.0//EN
CALSCALE:GREGORIAN
METHOD:PUBLISH
X-WR-CALNAME:Proximity MFA for Shared Workstations - GateKeeper Enterprise
X-ORIGINAL-URL:https://gkaccess.com
X-WR-CALDESC:Events for Proximity MFA for Shared Workstations - GateKeeper Enterprise
REFRESH-INTERVAL;VALUE=DURATION:PT1H
X-Robots-Tag:noindex
X-PUBLISHED-TTL:PT1H
BEGIN:VTIMEZONE
TZID:America/New_York
BEGIN:DAYLIGHT
TZOFFSETFROM:-0500
TZOFFSETTO:-0400
TZNAME:EDT
DTSTART:20250309T070000
END:DAYLIGHT
BEGIN:STANDARD
TZOFFSETFROM:-0400
TZOFFSETTO:-0500
TZNAME:EST
DTSTART:20251102T060000
END:STANDARD
BEGIN:DAYLIGHT
TZOFFSETFROM:-0500
TZOFFSETTO:-0400
TZNAME:EDT
DTSTART:20260308T070000
END:DAYLIGHT
BEGIN:STANDARD
TZOFFSETFROM:-0400
TZOFFSETTO:-0500
TZNAME:EST
DTSTART:20261101T060000
END:STANDARD
BEGIN:DAYLIGHT
TZOFFSETFROM:-0500
TZOFFSETTO:-0400
TZNAME:EDT
DTSTART:20270314T070000
END:DAYLIGHT
BEGIN:STANDARD
TZOFFSETFROM:-0400
TZOFFSETTO:-0500
TZNAME:EST
DTSTART:20271107T060000
END:STANDARD
END:VTIMEZONE
BEGIN:VEVENT
DTSTART;VALUE=DATE:20260518
DTEND;VALUE=DATE:20260520
DTSTAMP:20260421T103615
CREATED:20260109T235025Z
LAST-MODIFIED:20260121T202433Z
UID:15447-1779062400-1779235199@gkaccess.com
SUMMARY:Cyber Security Congress: Zero Trust Strategies for the Modern Enterprise
DESCRIPTION:GateKeeper is attending Cyber Security Congress: Zero Trust Strategies for the Modern Enterprise. The event brings together security leaders focused on modern Zero Trust architectures. \nGateKeeper supports Zero Trust by enforcing continuous user presence at the workstation. Access is granted only when the authorized user is physically present. \nOur proximity-based authentication removes shared passwords and reduces login friction. It strengthens identity assurance across shared and enterprise environments without disrupting workflows. \nVisit us for a live demo and hands-on look at how GateKeeper supports secure\, efficient emergency communications operations. Check out case studies and reviews from other public clients in manufacturing\, healthcare\, law enforcement\, public safety\, and more!
URL:https://gkaccess.com/event/cyber-security-congress-zero-trust-strategies-for-the-modern-enterprise/
LOCATION:San Jose McEnery Convention Center\, 150 W San Carlos St\, San Jose\, CA\, 95113\, United States
CATEGORIES:Conferences
ATTACH;FMTTYPE=image/jpeg:https://gkaccess.com/wp-content/uploads/2026/01/Cyber-Security-Congress.jpg
END:VEVENT
BEGIN:VEVENT
DTSTART;VALUE=DATE:20260713
DTEND;VALUE=DATE:20260717
DTSTAMP:20260421T103615
CREATED:20260414T193250Z
LAST-MODIFIED:20260420T205837Z
UID:15674-1783900800-1784246399@gkaccess.com
SUMMARY:2026 CJIS Annual Training Symposium
DESCRIPTION:Untethered Labs\, Inc. is excited to exhibit at the 2026 CJIS Annual Training Symposium. \nIn CJIS environments\, authentication isn’t just an IT function—it’s a compliance mandate. Every login\, every action\, every unattended workstation carries risk. At this year’s symposium\, we’re demonstrating how GateKeeper enables agencies to meet CJIS requirements while dramatically improving operational speed. \nGateKeeper is a proximity-based multi-factor authentication platform purpose-built for law enforcement\, dispatch\, and secure facilities—where shared workstations\, rapid access\, and strict auditability are the norm. \nAt our booth\, you’ll see how agencies are: \n\nEnforcing CJIS-aligned access controls with automatic workstation locking when users walk away\nAchieving true user attribution on shared computers—no more generic credentials\nEnabling instant login and fast user switching for officers\, dispatchers\, and analysts\nEliminating reliance on phones or slow MFA methods in restricted environments\nCreating clean\, defensible audit trails for compliance\, audits\, and incident review\n\nGateKeeper turns authentication into a seamless\, continuous process—ensuring that access is always secure\, always compliant\, and always tied to the right individual. \nStop by for a live demo and see how agencies are modernizing CJIS security without adding friction. \nEvery user verified. Every action tracked. Every workstation secured.
URL:https://gkaccess.com/event/2026-cjis-annual-training-symposium/
LOCATION:Hilton Orlando\, 6001 Destination Pkwy\, Orlando\, FL\, 32819\, United States
CATEGORIES:Conferences
ATTACH;FMTTYPE=image/jpeg:https://gkaccess.com/wp-content/uploads/2026/04/images.jpg
END:VEVENT
BEGIN:VEVENT
DTSTART;VALUE=DATE:20260927
DTEND;VALUE=DATE:20261001
DTSTAMP:20260421T103615
CREATED:20260414T194210Z
LAST-MODIFIED:20260420T210140Z
UID:15680-1790467200-1790812799@gkaccess.com
SUMMARY:2026 MISAC Annual Conference
DESCRIPTION:Untethered Labs\, Inc. is proud to exhibit as a MISAC strategic partner at the 2026 MISAC Annual Conference\, hosted by the Municipal Information Systems Association of California (MISAC). \nFor city and county IT leaders\, balancing security\, usability\, and compliance across diverse departments is a constant challenge—especially with shared workstations in public safety\, public works\, utilities\, and administrative offices. At MISAC\, we’re showcasing how GateKeeper simplifies authentication across your entire municipality. \nGateKeeper is a proximity-based multi-factor authentication platform that delivers fast\, secure access while maintaining full accountability—even on shared computers. \nAt our booth\, you’ll see how local governments are: \n\nEnforcing secure access policies without slowing down staff in the field or office\nAchieving true user-level audit trails on shared and kiosk-style workstations\nEnabling instant login and seamless user switching across departments\nAutomatically locking unattended systems to reduce insider risk\nEliminating reliance on phones or complex passwords for MFA\n\nFrom police departments and dispatch centers to city halls and utility offices\, GateKeeper helps municipalities modernize access control while improving productivity and user experience. \nStop by for a live demo and see how you can secure every workstation—without adding friction for your teams. \nStronger security. Faster access. Built for the way local government works.
URL:https://gkaccess.com/event/2026-misac-annual-conference/
LOCATION:Monterey Conference Center\, 1 Portola Plaza\, Monterey\, CA\, 93940\, United States
CATEGORIES:Conferences
ATTACH;FMTTYPE=image/png:https://gkaccess.com/wp-content/uploads/2026/04/MISAC-vendor-GateKeeper-Proximity.png
END:VEVENT
END:VCALENDAR